BEGIN:VCALENDAR
VERSION:2.0
PRODID:-//Meseterápia - Perinatális szaktanácsadás - ECPv6.10.1.1//NONSGML v1.0//EN
CALSCALE:GREGORIAN
METHOD:PUBLISH
X-ORIGINAL-URL:https://fenyszottes.hu
X-WR-CALDESC:Events for Meseterápia - Perinatális szaktanácsadás
REFRESH-INTERVAL;VALUE=DURATION:PT1H
X-Robots-Tag:noindex
X-PUBLISHED-TTL:PT1H
BEGIN:VTIMEZONE
TZID:Europe/Budapest
BEGIN:DAYLIGHT
TZOFFSETFROM:+0100
TZOFFSETTO:+0200
TZNAME:CEST
DTSTART:20250330T010000
END:DAYLIGHT
BEGIN:STANDARD
TZOFFSETFROM:+0200
TZOFFSETTO:+0100
TZNAME:CET
DTSTART:20251026T010000
END:STANDARD
END:VTIMEZONE
BEGIN:VEVENT
DTSTART;TZID=Europe/Budapest:20250130T140000
DTEND;TZID=Europe/Budapest:20250130T160000
DTSTAMP:20260417T171326
CREATED:20250110T161041Z
LAST-MODIFIED:20250110T162041Z
UID:922-1738245600-1738252800@fenyszottes.hu
SUMMARY:Várandós meseműhely - 2025.01.30
DESCRIPTION:Öt alkalmas várandós meseműhelyen készülhetünk az anyaságra\, egy gyermek érkezésére. \nBővebben + Jelentkezés
URL:https://fenyszottes.hu/esemeny/varandos-mesemuhely-2025-01-30/
LOCATION:Varázserdő\, Pillich K. utca 17.\, Szeged
ORGANIZER;CN="S%C3%B3lyom Andrea":MAILTO:info@fenyszottes.hu
END:VEVENT
END:VCALENDAR