BEGIN:VCALENDAR
VERSION:2.0
PRODID:-//Meseterápia - Perinatális szaktanácsadás - ECPv6.10.1.1//NONSGML v1.0//EN
CALSCALE:GREGORIAN
METHOD:PUBLISH
X-WR-CALNAME:Meseterápia - Perinatális szaktanácsadás
X-ORIGINAL-URL:https://fenyszottes.hu
X-WR-CALDESC:Events for Meseterápia - Perinatális szaktanácsadás
REFRESH-INTERVAL;VALUE=DURATION:PT1H
X-Robots-Tag:noindex
X-PUBLISHED-TTL:PT1H
BEGIN:VTIMEZONE
TZID:Europe/Budapest
BEGIN:DAYLIGHT
TZOFFSETFROM:+0100
TZOFFSETTO:+0200
TZNAME:CEST
DTSTART:20240331T010000
END:DAYLIGHT
BEGIN:STANDARD
TZOFFSETFROM:+0200
TZOFFSETTO:+0100
TZNAME:CET
DTSTART:20241027T010000
END:STANDARD
BEGIN:DAYLIGHT
TZOFFSETFROM:+0100
TZOFFSETTO:+0200
TZNAME:CEST
DTSTART:20250330T010000
END:DAYLIGHT
BEGIN:STANDARD
TZOFFSETFROM:+0200
TZOFFSETTO:+0100
TZNAME:CET
DTSTART:20251026T010000
END:STANDARD
END:VTIMEZONE
BEGIN:VEVENT
DTSTART;TZID=Europe/Budapest:20250624T170000
DTEND;TZID=Europe/Budapest:20250624T190000
DTSTAMP:20260420T004816
CREATED:20241110T181933Z
LAST-MODIFIED:20241110T181933Z
UID:878-1750784400-1750791600@fenyszottes.hu
SUMMARY:A fény felé - belső utakon. Nyitott női meseműhely - 2025.06.24
DESCRIPTION:Az évszakok változásaiba simulva indulunk felfedezni azokat a belső útjainkat\, melyek a fény\, a derű\, az öröm felé vezetnek bennünket. \nBővebben + Jelentkezés
URL:https://fenyszottes.hu/esemeny/a-feny-fele-belso-utakon-noi-mesemuhely-0611-2-2-2-2-2-2-2-2/
LOCATION:Aranykapu\, Lengyel utca 8/B\, Szeged
ORGANIZER;CN="S%C3%B3lyom Andrea":MAILTO:info@fenyszottes.hu
END:VEVENT
BEGIN:VEVENT
DTSTART;TZID=Europe/Budapest:20250527T170000
DTEND;TZID=Europe/Budapest:20250527T190000
DTSTAMP:20260420T004816
CREATED:20241110T181802Z
LAST-MODIFIED:20241110T181802Z
UID:876-1748365200-1748372400@fenyszottes.hu
SUMMARY:A fény felé - belső utakon. Nyitott női meseműhely - 2025.05.27
DESCRIPTION:Az évszakok változásaiba simulva indulunk felfedezni azokat a belső útjainkat\, melyek a fény\, a derű\, az öröm felé vezetnek bennünket. \nBővebben + Jelentkezés
URL:https://fenyszottes.hu/esemeny/a-feny-fele-belso-utakon-noi-mesemuhely-0611-2-2-2-2-2-2-2/
LOCATION:Aranykapu\, Lengyel utca 8/B\, Szeged
ORGANIZER;CN="S%C3%B3lyom Andrea":MAILTO:info@fenyszottes.hu
END:VEVENT
BEGIN:VEVENT
DTSTART;TZID=Europe/Budapest:20250429T170000
DTEND;TZID=Europe/Budapest:20250429T190000
DTSTAMP:20260420T004816
CREATED:20241110T181633Z
LAST-MODIFIED:20241110T181633Z
UID:872-1745946000-1745953200@fenyszottes.hu
SUMMARY:A fény felé - belső utakon. Nyitott női meseműhely - 2025.04.29
DESCRIPTION:Az évszakok változásaiba simulva indulunk felfedezni azokat a belső útjainkat\, melyek a fény\, a derű\, az öröm felé vezetnek bennünket. \nBővebben + Jelentkezés
URL:https://fenyszottes.hu/esemeny/a-feny-fele-belso-utakon-noi-mesemuhely-0611-2-2-2-2-2-2/
LOCATION:Aranykapu\, Lengyel utca 8/B\, Szeged
ORGANIZER;CN="S%C3%B3lyom Andrea":MAILTO:info@fenyszottes.hu
END:VEVENT
BEGIN:VEVENT
DTSTART;TZID=Europe/Budapest:20250320T140000
DTEND;TZID=Europe/Budapest:20250320T160000
DTSTAMP:20260420T004816
CREATED:20250110T163724Z
LAST-MODIFIED:20250110T164213Z
UID:967-1742479200-1742486400@fenyszottes.hu
SUMMARY:Várandós meseműhely - 2025.03.20
DESCRIPTION:Öt alkalmas várandós meseműhelyen készülhetünk az anyaságra\, egy gyermek érkezésére. \nBővebben + Jelentkezés
URL:https://fenyszottes.hu/esemeny/varandos-mesemuhely-2025-03-20/
LOCATION:Varázserdő\, Pillich K. utca 17.\, Szeged
ORGANIZER;CN="S%C3%B3lyom Andrea":MAILTO:info@fenyszottes.hu
END:VEVENT
BEGIN:VEVENT
DTSTART;TZID=Europe/Budapest:20250318T170000
DTEND;TZID=Europe/Budapest:20250318T190000
DTSTAMP:20260420T004816
CREATED:20241110T181417Z
LAST-MODIFIED:20241110T181417Z
UID:870-1742317200-1742324400@fenyszottes.hu
SUMMARY:A fény felé - belső utakon. Nyitott női meseműhely - 2025.03.18
DESCRIPTION:Az évszakok változásaiba simulva indulunk felfedezni azokat a belső útjainkat\, melyek a fény\, a derű\, az öröm felé vezetnek bennünket. \nBővebben + Jelentkezés
URL:https://fenyszottes.hu/esemeny/a-feny-fele-belso-utakon-noi-mesemuhely-0611-2-2-2-2-2/
LOCATION:Aranykapu\, Lengyel utca 8/B\, Szeged
ORGANIZER;CN="S%C3%B3lyom Andrea":MAILTO:info@fenyszottes.hu
END:VEVENT
BEGIN:VEVENT
DTSTART;TZID=Europe/Budapest:20250313T140000
DTEND;TZID=Europe/Budapest:20250313T160000
DTSTAMP:20260420T004816
CREATED:20250110T163607Z
LAST-MODIFIED:20250110T164153Z
UID:955-1741874400-1741881600@fenyszottes.hu
SUMMARY:Várandós meseműhely - 2025.03.13
DESCRIPTION:Öt alkalmas várandós meseműhelyen készülhetünk az anyaságra\, egy gyermek érkezésére. \nBővebben + Jelentkezés
URL:https://fenyszottes.hu/esemeny/varandos-mesemuhely-2025-03-13/
LOCATION:Varázserdő\, Pillich K. utca 17.\, Szeged
ORGANIZER;CN="S%C3%B3lyom Andrea":MAILTO:info@fenyszottes.hu
END:VEVENT
BEGIN:VEVENT
DTSTART;TZID=Europe/Budapest:20250227T140000
DTEND;TZID=Europe/Budapest:20250227T160000
DTSTAMP:20260420T004816
CREATED:20250110T163403Z
LAST-MODIFIED:20250110T164130Z
UID:944-1740664800-1740672000@fenyszottes.hu
SUMMARY:Várandós meseműhely - 2025.02.27
DESCRIPTION:Öt alkalmas várandós meseműhelyen készülhetünk az anyaságra\, egy gyermek érkezésére. \nBővebben + Jelentkezés
URL:https://fenyszottes.hu/esemeny/varandos-mesemuhely-2025-02-27/
LOCATION:Varázserdő\, Pillich K. utca 17.\, Szeged
ORGANIZER;CN="S%C3%B3lyom Andrea":MAILTO:info@fenyszottes.hu
END:VEVENT
BEGIN:VEVENT
DTSTART;TZID=Europe/Budapest:20250225T170000
DTEND;TZID=Europe/Budapest:20250225T190000
DTSTAMP:20260420T004816
CREATED:20241110T181046Z
LAST-MODIFIED:20241110T181204Z
UID:868-1740502800-1740510000@fenyszottes.hu
SUMMARY:A fény felé - belső utakon. Nyitott női meseműhely - 2025.02.25
DESCRIPTION:Az évszakok változásaiba simulva indulunk felfedezni azokat a belső útjainkat\, melyek a fény\, a derű\, az öröm felé vezetnek bennünket. \nBővebben + Jelentkezés
URL:https://fenyszottes.hu/esemeny/a-feny-fele-belso-utakon-noi-mesemuhely-0611-2-2-2-2/
LOCATION:Aranykapu\, Lengyel utca 8/B\, Szeged
ORGANIZER;CN="S%C3%B3lyom Andrea":MAILTO:info@fenyszottes.hu
END:VEVENT
BEGIN:VEVENT
DTSTART;TZID=Europe/Budapest:20250213T140000
DTEND;TZID=Europe/Budapest:20250213T160000
DTSTAMP:20260420T004816
CREATED:20250110T163159Z
LAST-MODIFIED:20250110T163159Z
UID:934-1739455200-1739462400@fenyszottes.hu
SUMMARY:Várandós meseműhely - 2025.02.13
DESCRIPTION:Öt alkalmas várandós meseműhelyen készülhetünk az anyaságra\, egy gyermek érkezésére. \nBővebben + Jelentkezés
URL:https://fenyszottes.hu/esemeny/varandos-mesemuhely-2025-02-13/
LOCATION:Varázserdő\, Pillich K. utca 17.\, Szeged
ORGANIZER;CN="S%C3%B3lyom Andrea":MAILTO:info@fenyszottes.hu
END:VEVENT
BEGIN:VEVENT
DTSTART;TZID=Europe/Budapest:20250130T140000
DTEND;TZID=Europe/Budapest:20250130T160000
DTSTAMP:20260420T004816
CREATED:20250110T161041Z
LAST-MODIFIED:20250110T162041Z
UID:922-1738245600-1738252800@fenyszottes.hu
SUMMARY:Várandós meseműhely - 2025.01.30
DESCRIPTION:Öt alkalmas várandós meseműhelyen készülhetünk az anyaságra\, egy gyermek érkezésére. \nBővebben + Jelentkezés
URL:https://fenyszottes.hu/esemeny/varandos-mesemuhely-2025-01-30/
LOCATION:Varázserdő\, Pillich K. utca 17.\, Szeged
ORGANIZER;CN="S%C3%B3lyom Andrea":MAILTO:info@fenyszottes.hu
END:VEVENT
BEGIN:VEVENT
DTSTART;TZID=Europe/Budapest:20250128T170000
DTEND;TZID=Europe/Budapest:20250128T190000
DTSTAMP:20260420T004816
CREATED:20241110T180251Z
LAST-MODIFIED:20241110T180757Z
UID:866-1738083600-1738090800@fenyszottes.hu
SUMMARY:A fény felé - belső utakon. Nyitott női meseműhely - 2025.01.28
DESCRIPTION:Az évszakok változásaiba simulva indulunk felfedezni azokat a belső útjainkat\, melyek a fény\, a derű\, az öröm felé vezetnek bennünket. \nBővebben + Jelentkezés
URL:https://fenyszottes.hu/esemeny/a-feny-fele-belso-utakon-noi-mesemuhely-0611-2-2-2/
LOCATION:Aranykapu\, Lengyel utca 8/B\, Szeged
ORGANIZER;CN="S%C3%B3lyom Andrea":MAILTO:info@fenyszottes.hu
END:VEVENT
BEGIN:VEVENT
DTSTART;TZID=Europe/Budapest:20241210T170000
DTEND;TZID=Europe/Budapest:20241210T190000
DTSTAMP:20260420T004816
CREATED:20241110T175955Z
LAST-MODIFIED:20241110T180844Z
UID:864-1733850000-1733857200@fenyszottes.hu
SUMMARY:A fény felé - belső utakon. Nyitott női meseműhely - 2024.12.10
DESCRIPTION:Az évszakok változásaiba simulva indulunk felfedezni azokat a belső útjainkat\, melyek a fény\, a derű\, az öröm felé vezetnek bennünket. \nBővebben + Jelentkezés
URL:https://fenyszottes.hu/esemeny/a-feny-fele-belso-utakon-noi-mesemuhely-0611-2-2/
LOCATION:Aranykapu\, Lengyel utca 8/B\, Szeged
ORGANIZER;CN="S%C3%B3lyom Andrea":MAILTO:info@fenyszottes.hu
END:VEVENT
BEGIN:VEVENT
DTSTART;TZID=Europe/Budapest:20241126T170000
DTEND;TZID=Europe/Budapest:20241126T190000
DTSTAMP:20260420T004816
CREATED:20241110T175525Z
LAST-MODIFIED:20241110T182006Z
UID:862-1732640400-1732647600@fenyszottes.hu
SUMMARY:A fény felé - belső utakon. Nyitott női meseműhely - 2024.11.26.
DESCRIPTION:Az évszakok változásaiba simulva indulunk felfedezni azokat a belső útjainkat\, melyek a fény\, a derű\, az öröm felé vezetnek bennünket. \nBővebben + Jelentkezés
URL:https://fenyszottes.hu/esemeny/a-feny-fele-belso-utakon-noi-mesemuhely-0611-2/
LOCATION:Aranykapu\, Lengyel utca 8/B\, Szeged
ORGANIZER;CN="S%C3%B3lyom Andrea":MAILTO:info@fenyszottes.hu
END:VEVENT
BEGIN:VEVENT
DTSTART;TZID=Europe/Budapest:20240625T170000
DTEND;TZID=Europe/Budapest:20240625T190000
DTSTAMP:20260420T004816
CREATED:20240303T113608Z
LAST-MODIFIED:20240303T115739Z
UID:851-1719334800-1719342000@fenyszottes.hu
SUMMARY:Világszép Asszonyok - meseműhely életük közepén járó nőknek_2024.06.25
DESCRIPTION:Életünk közepe táján jó megállni\, rápillantani az útra\, amin eddig jártunk. \nBővebben + Jelentkezés
URL:https://fenyszottes.hu/esemeny/vilagszep-asszonyok-noi-letunk-rendezettsege-mesemuhely-eletuk-kozepen-jaro-noknekszuletesek-noi-mesemuhely-0625/
LOCATION:Aranykapu\, Lengyel utca 8/B\, Szeged
ORGANIZER;CN="S%C3%B3lyom Andrea":MAILTO:info@fenyszottes.hu
END:VEVENT
BEGIN:VEVENT
DTSTART;TZID=Europe/Budapest:20240618T170000
DTEND;TZID=Europe/Budapest:20240618T190000
DTSTAMP:20260420T004816
CREATED:20240130T172425Z
LAST-MODIFIED:20240201T143028Z
UID:611-1718730000-1718737200@fenyszottes.hu
SUMMARY:Születések - női meseműhely - 2024.06.18
DESCRIPTION:Mindenki\, aki egy szülés/születés eseményénél jelen van\, részesévé válik a történéseknek… \nBővebben + Jelentkezés
URL:https://fenyszottes.hu/esemeny/szuletesek-noi-mesemuhely-0618/
LOCATION:Aranykapu\, Lengyel utca 8/B\, Szeged
ORGANIZER;CN="S%C3%B3lyom Andrea":MAILTO:info@fenyszottes.hu
END:VEVENT
BEGIN:VEVENT
DTSTART;TZID=Europe/Budapest:20240611T170000
DTEND;TZID=Europe/Budapest:20240611T190000
DTSTAMP:20260420T004816
CREATED:20240130T163705Z
LAST-MODIFIED:20240201T143112Z
UID:596-1718125200-1718132400@fenyszottes.hu
SUMMARY:A fény felé - belső utakon. Nyitott női meseműhely -2024.06.11
DESCRIPTION:Az évszakok változásaiba simulva indulunk felfedezni azokat a belső útjainkat\, melyek a fény\, a derű\, az öröm felé vezetnek bennünket. \nBővebben + Jelentkezés
URL:https://fenyszottes.hu/esemeny/a-feny-fele-belso-utakon-noi-mesemuhely-0611/
LOCATION:Aranykapu\, Lengyel utca 8/B\, Szeged
ORGANIZER;CN="S%C3%B3lyom Andrea":MAILTO:info@fenyszottes.hu
END:VEVENT
BEGIN:VEVENT
DTSTART;TZID=Europe/Budapest:20240528T170000
DTEND;TZID=Europe/Budapest:20240528T190000
DTSTAMP:20260420T004816
CREATED:20240130T163250Z
LAST-MODIFIED:20240201T143142Z
UID:594-1716915600-1716922800@fenyszottes.hu
SUMMARY:A fény felé - belső utakon. Nyitott női meseműhely - 2024.05.28
DESCRIPTION:Az évszakok változásaiba simulva indulunk felfedezni azokat a belső útjainkat\, melyek a fény\, a derű\, az öröm felé vezetnek bennünket. \nBővebben + Jelentkezés
URL:https://fenyszottes.hu/esemeny/a-feny-fele-belso-utakon-noi-mesemuhely-0528/
LOCATION:Aranykapu\, Lengyel utca 8/B\, Szeged
ORGANIZER;CN="S%C3%B3lyom Andrea":MAILTO:info@fenyszottes.hu
END:VEVENT
BEGIN:VEVENT
DTSTART;TZID=Europe/Budapest:20240521T170000
DTEND;TZID=Europe/Budapest:20240521T190000
DTSTAMP:20260420T004816
CREATED:20240303T113428Z
LAST-MODIFIED:20240303T113449Z
UID:849-1716310800-1716318000@fenyszottes.hu
SUMMARY:Világszép Asszonyok - meseműhely életük közepén járó nőknek_2024.05.21
DESCRIPTION:Életünk közepe táján jó megállni\, rápillantani az útra\, amin eddig jártunk. \nBővebben + Jelentkezés
URL:https://fenyszottes.hu/esemeny/vilagszep-asszonyok-noi-letunk-rendezettsege-mesemuhely-eletuk-kozepen-jaro-noknekszuletesek-noi-mesemuhely-0521/
ORGANIZER;CN="S%C3%B3lyom Andrea":MAILTO:info@fenyszottes.hu
END:VEVENT
BEGIN:VEVENT
DTSTART;TZID=Europe/Budapest:20240514T170000
DTEND;TZID=Europe/Budapest:20240514T190000
DTSTAMP:20260420T004816
CREATED:20240130T172148Z
LAST-MODIFIED:20240201T143211Z
UID:609-1715706000-1715713200@fenyszottes.hu
SUMMARY:Születések - női meseműhely - 2024.05.14
DESCRIPTION:Mindenki\, aki egy szülés/születés eseményénél jelen van\, részesévé válik a történéseknek… \nBővebben + Jelentkezés
URL:https://fenyszottes.hu/esemeny/szuletesek-noi-mesemuhely-0514/
LOCATION:Aranykapu\, Lengyel utca 8/B\, Szeged
ORGANIZER;CN="S%C3%B3lyom Andrea":MAILTO:info@fenyszottes.hu
END:VEVENT
BEGIN:VEVENT
DTSTART;TZID=Europe/Budapest:20240430T170000
DTEND;TZID=Europe/Budapest:20240430T190000
DTSTAMP:20260420T004816
CREATED:20240130T162829Z
LAST-MODIFIED:20240201T143233Z
UID:592-1714496400-1714503600@fenyszottes.hu
SUMMARY:A fény felé - belső utakon. Nyitott női meseműhely - 2024.04.30
DESCRIPTION:Az évszakok változásaiba simulva indulunk felfedezni azokat a belső útjainkat\, melyek a fény\, a derű\, az öröm felé vezetnek bennünket. \nBővebben + Jelentkezés
URL:https://fenyszottes.hu/esemeny/a-feny-fele-belso-utakon-noi-mesemuhely-0430/
LOCATION:Aranykapu\, Lengyel utca 8/B\, Szeged
ORGANIZER;CN="S%C3%B3lyom Andrea":MAILTO:info@fenyszottes.hu
END:VEVENT
BEGIN:VEVENT
DTSTART;TZID=Europe/Budapest:20240423T170000
DTEND;TZID=Europe/Budapest:20240423T190000
DTSTAMP:20260420T004816
CREATED:20240303T112711Z
LAST-MODIFIED:20240303T113255Z
UID:846-1713891600-1713898800@fenyszottes.hu
SUMMARY:Világszép Asszonyok - meseműhely életük közepén járó nőknek_2024.04.23
DESCRIPTION:Életünk közepe táján jó megállni\, rápillantani az útra\, amin eddig jártunk. \nBővebben + Jelentkezés
URL:https://fenyszottes.hu/esemeny/vilagszep-asszonyok-noi-letunk-rendezettsege-mesemuhely-eletuk-kozepen-jaro-noknekszuletesek-noi-mesemuhely-0423/
ORGANIZER;CN="S%C3%B3lyom Andrea":MAILTO:info@fenyszottes.hu
END:VEVENT
BEGIN:VEVENT
DTSTART;TZID=Europe/Budapest:20240409T170000
DTEND;TZID=Europe/Budapest:20240409T190000
DTSTAMP:20260420T004816
CREATED:20240130T171749Z
LAST-MODIFIED:20240201T143258Z
UID:607-1712682000-1712689200@fenyszottes.hu
SUMMARY:Születések - női meseműhely - 2024.04.09
DESCRIPTION:Mindenki\, aki egy szülés/születés eseményénél jelen van\, részesévé válik a történéseknek… \nBővebben + Jelentkezés
URL:https://fenyszottes.hu/esemeny/szuletesek-noi-mesemuhely-0409/
LOCATION:Aranykapu\, Lengyel utca 8/B\, Szeged
ORGANIZER;CN="S%C3%B3lyom Andrea":MAILTO:info@fenyszottes.hu
END:VEVENT
BEGIN:VEVENT
DTSTART;TZID=Europe/Budapest:20240326T170000
DTEND;TZID=Europe/Budapest:20240326T190000
DTSTAMP:20260420T004816
CREATED:20240130T162518Z
LAST-MODIFIED:20240201T143317Z
UID:590-1711472400-1711479600@fenyszottes.hu
SUMMARY:A fény felé - belső utakon. Nyitott női meseműhely - 2024.03.26
DESCRIPTION:Az évszakok változásaiba simulva indulunk felfedezni azokat a belső útjainkat\, melyek a fény\, a derű\, az öröm felé vezetnek bennünket. \nBővebben + Jelentkezés
URL:https://fenyszottes.hu/esemeny/a-feny-fele-belso-utakon-noi-mesemuhely-0326/
LOCATION:Aranykapu\, Lengyel utca 8/B\, Szeged
ORGANIZER;CN="S%C3%B3lyom Andrea":MAILTO:info@fenyszottes.hu
END:VEVENT
BEGIN:VEVENT
DTSTART;TZID=Europe/Budapest:20240319T170000
DTEND;TZID=Europe/Budapest:20240319T190000
DTSTAMP:20260420T004816
CREATED:20240303T111621Z
LAST-MODIFIED:20240303T113052Z
UID:841-1710867600-1710874800@fenyszottes.hu
SUMMARY:Világszép Asszonyok - meseműhely életük közepén járó nőknek_2024.03.19
DESCRIPTION:Életünk közepe táján jó megállni\, rápillantani az útra\, amin eddig jártunk. \nBővebben + Jelentkezés
URL:https://fenyszottes.hu/esemeny/vilagszep-asszonyok-noi-letunk-rendezettsege-mesemuhely-eletuk-kozepen-jaro-noknekszuletesek-noi-mesemuhely-0312-2/
LOCATION:Aranykapu\, Lengyel utca 8/B\, Szeged
ORGANIZER;CN="S%C3%B3lyom Andrea":MAILTO:info@fenyszottes.hu
END:VEVENT
BEGIN:VEVENT
DTSTART;TZID=Europe/Budapest:20240312T170000
DTEND;TZID=Europe/Budapest:20240312T190000
DTSTAMP:20260420T004816
CREATED:20240130T171339Z
LAST-MODIFIED:20240201T143335Z
UID:605-1710262800-1710270000@fenyszottes.hu
SUMMARY:Születések - női meseműhely - 2024.03.12
DESCRIPTION:Mindenki\, aki egy szülés/születés eseményénél jelen van\, részesévé válik a történéseknek… \nBővebben + Jelentkezés
URL:https://fenyszottes.hu/esemeny/szuletesek-noi-mesemuhely-0312/
LOCATION:Aranykapu\, Lengyel utca 8/B\, Szeged
ORGANIZER;CN="S%C3%B3lyom Andrea":MAILTO:info@fenyszottes.hu
END:VEVENT
BEGIN:VEVENT
DTSTART;TZID=Europe/Budapest:20240227T170000
DTEND;TZID=Europe/Budapest:20240227T190000
DTSTAMP:20260420T004816
CREATED:20240130T160512Z
LAST-MODIFIED:20240201T143353Z
UID:583-1709053200-1709060400@fenyszottes.hu
SUMMARY:A fény felé - belső utakon. Nyitott női meseműhely - 2024.02.27
DESCRIPTION:Az évszakok változásaiba simulva indulunk felfedezni azokat a belső útjainkat\, melyek a fény\, a derű\, az öröm felé vezetnek bennünket. \nBővebben + Jelentkezés
URL:https://fenyszottes.hu/esemeny/a-feny-fele-belso-utakon-noi-mesemuhely-0227/
LOCATION:Aranykapu\, Lengyel utca 8/B\, Szeged
ORGANIZER;CN="S%C3%B3lyom Andrea":MAILTO:info@fenyszottes.hu
END:VEVENT
BEGIN:VEVENT
DTSTART;TZID=Europe/Budapest:20240213T170000
DTEND;TZID=Europe/Budapest:20240213T190000
DTSTAMP:20260420T004816
CREATED:20240130T164219Z
LAST-MODIFIED:20240201T143418Z
UID:598-1707843600-1707850800@fenyszottes.hu
SUMMARY:Születések - női meseműhely - 2024.02.13
DESCRIPTION:Mindenki\, aki egy szülés/születés eseményénél jelen van\, részesévé válik a történéseknek… \nBővebben + Jelentkezés
URL:https://fenyszottes.hu/esemeny/szuletesek-noi-mesemuhely-0213/
LOCATION:Aranykapu\, Lengyel utca 8/B\, Szeged
ORGANIZER;CN="S%C3%B3lyom Andrea":MAILTO:info@fenyszottes.hu
END:VEVENT
BEGIN:VEVENT
DTSTART;TZID=Europe/Budapest:20240130T170000
DTEND;TZID=Europe/Budapest:20240130T190000
DTSTAMP:20260420T004816
CREATED:20240128T095836Z
LAST-MODIFIED:20240201T142941Z
UID:470-1706634000-1706641200@fenyszottes.hu
SUMMARY:A fény felé - belső utakon. Nyitott női meseműhely - 2024.01.30
DESCRIPTION:Az évszakok változásaiba simulva indulunk felfedezni azokat a belső útjainkat\, melyek a fény\, a derű\, az öröm felé vezetnek bennünket. \nBővebben + Jelentkezés
URL:https://fenyszottes.hu/esemeny/a-feny-fele-belso-utakon-noi-mesemuhely-0130/
LOCATION:Aranykapu\, Lengyel utca 8/B\, Szeged
ORGANIZER;CN="S%C3%B3lyom Andrea":MAILTO:info@fenyszottes.hu
END:VEVENT
END:VCALENDAR