BEGIN:VCALENDAR
VERSION:2.0
PRODID:-//Meseterápia - Perinatális szaktanácsadás - ECPv6.10.1.1//NONSGML v1.0//EN
CALSCALE:GREGORIAN
METHOD:PUBLISH
X-ORIGINAL-URL:https://fenyszottes.hu
X-WR-CALDESC:Events for Meseterápia - Perinatális szaktanácsadás
REFRESH-INTERVAL;VALUE=DURATION:PT1H
X-Robots-Tag:noindex
X-PUBLISHED-TTL:PT1H
BEGIN:VTIMEZONE
TZID:Europe/Budapest
BEGIN:DAYLIGHT
TZOFFSETFROM:+0100
TZOFFSETTO:+0200
TZNAME:CEST
DTSTART:20250330T010000
END:DAYLIGHT
BEGIN:STANDARD
TZOFFSETFROM:+0200
TZOFFSETTO:+0100
TZNAME:CET
DTSTART:20251026T010000
END:STANDARD
END:VTIMEZONE
BEGIN:VEVENT
DTSTART;TZID=Europe/Budapest:20250318T170000
DTEND;TZID=Europe/Budapest:20250318T190000
DTSTAMP:20260421T202500
CREATED:20241110T181417Z
LAST-MODIFIED:20241110T181417Z
UID:870-1742317200-1742324400@fenyszottes.hu
SUMMARY:A fény felé - belső utakon. Nyitott női meseműhely - 2025.03.18
DESCRIPTION:Az évszakok változásaiba simulva indulunk felfedezni azokat a belső útjainkat\, melyek a fény\, a derű\, az öröm felé vezetnek bennünket. \nBővebben + Jelentkezés
URL:https://fenyszottes.hu/esemeny/a-feny-fele-belso-utakon-noi-mesemuhely-0611-2-2-2-2-2/
LOCATION:Aranykapu\, Lengyel utca 8/B\, Szeged
ORGANIZER;CN="S%C3%B3lyom Andrea":MAILTO:info@fenyszottes.hu
END:VEVENT
BEGIN:VEVENT
DTSTART;TZID=Europe/Budapest:20250320T140000
DTEND;TZID=Europe/Budapest:20250320T160000
DTSTAMP:20260421T202500
CREATED:20250110T163724Z
LAST-MODIFIED:20250110T164213Z
UID:967-1742479200-1742486400@fenyszottes.hu
SUMMARY:Várandós meseműhely - 2025.03.20
DESCRIPTION:Öt alkalmas várandós meseműhelyen készülhetünk az anyaságra\, egy gyermek érkezésére. \nBővebben + Jelentkezés
URL:https://fenyszottes.hu/esemeny/varandos-mesemuhely-2025-03-20/
LOCATION:Varázserdő\, Pillich K. utca 17.\, Szeged
ORGANIZER;CN="S%C3%B3lyom Andrea":MAILTO:info@fenyszottes.hu
END:VEVENT
BEGIN:VEVENT
DTSTART;TZID=Europe/Budapest:20250429T170000
DTEND;TZID=Europe/Budapest:20250429T190000
DTSTAMP:20260421T202500
CREATED:20241110T181633Z
LAST-MODIFIED:20241110T181633Z
UID:872-1745946000-1745953200@fenyszottes.hu
SUMMARY:A fény felé - belső utakon. Nyitott női meseműhely - 2025.04.29
DESCRIPTION:Az évszakok változásaiba simulva indulunk felfedezni azokat a belső útjainkat\, melyek a fény\, a derű\, az öröm felé vezetnek bennünket. \nBővebben + Jelentkezés
URL:https://fenyszottes.hu/esemeny/a-feny-fele-belso-utakon-noi-mesemuhely-0611-2-2-2-2-2-2/
LOCATION:Aranykapu\, Lengyel utca 8/B\, Szeged
ORGANIZER;CN="S%C3%B3lyom Andrea":MAILTO:info@fenyszottes.hu
END:VEVENT
BEGIN:VEVENT
DTSTART;TZID=Europe/Budapest:20250527T170000
DTEND;TZID=Europe/Budapest:20250527T190000
DTSTAMP:20260421T202500
CREATED:20241110T181802Z
LAST-MODIFIED:20241110T181802Z
UID:876-1748365200-1748372400@fenyszottes.hu
SUMMARY:A fény felé - belső utakon. Nyitott női meseműhely - 2025.05.27
DESCRIPTION:Az évszakok változásaiba simulva indulunk felfedezni azokat a belső útjainkat\, melyek a fény\, a derű\, az öröm felé vezetnek bennünket. \nBővebben + Jelentkezés
URL:https://fenyszottes.hu/esemeny/a-feny-fele-belso-utakon-noi-mesemuhely-0611-2-2-2-2-2-2-2/
LOCATION:Aranykapu\, Lengyel utca 8/B\, Szeged
ORGANIZER;CN="S%C3%B3lyom Andrea":MAILTO:info@fenyszottes.hu
END:VEVENT
BEGIN:VEVENT
DTSTART;TZID=Europe/Budapest:20250624T170000
DTEND;TZID=Europe/Budapest:20250624T190000
DTSTAMP:20260421T202500
CREATED:20241110T181933Z
LAST-MODIFIED:20241110T181933Z
UID:878-1750784400-1750791600@fenyszottes.hu
SUMMARY:A fény felé - belső utakon. Nyitott női meseműhely - 2025.06.24
DESCRIPTION:Az évszakok változásaiba simulva indulunk felfedezni azokat a belső útjainkat\, melyek a fény\, a derű\, az öröm felé vezetnek bennünket. \nBővebben + Jelentkezés
URL:https://fenyszottes.hu/esemeny/a-feny-fele-belso-utakon-noi-mesemuhely-0611-2-2-2-2-2-2-2-2/
LOCATION:Aranykapu\, Lengyel utca 8/B\, Szeged
ORGANIZER;CN="S%C3%B3lyom Andrea":MAILTO:info@fenyszottes.hu
END:VEVENT
END:VCALENDAR